BEGIN:VCALENDAR
VERSION:2.0
PRODID:-//Emerald Spa - ECPv6.15.20//NONSGML v1.0//EN
CALSCALE:GREGORIAN
METHOD:PUBLISH
X-ORIGINAL-URL:https://emeraldspa.pl
X-WR-CALDESC:Events for Emerald Spa
REFRESH-INTERVAL;VALUE=DURATION:PT1H
X-Robots-Tag:noindex
X-PUBLISHED-TTL:PT1H
BEGIN:VTIMEZONE
TZID:Europe/Warsaw
BEGIN:DAYLIGHT
TZOFFSETFROM:+0100
TZOFFSETTO:+0200
TZNAME:CEST
DTSTART:20250330T010000
END:DAYLIGHT
BEGIN:STANDARD
TZOFFSETFROM:+0200
TZOFFSETTO:+0100
TZNAME:CET
DTSTART:20251026T010000
END:STANDARD
BEGIN:DAYLIGHT
TZOFFSETFROM:+0100
TZOFFSETTO:+0200
TZNAME:CEST
DTSTART:20260329T010000
END:DAYLIGHT
BEGIN:STANDARD
TZOFFSETFROM:+0200
TZOFFSETTO:+0100
TZNAME:CET
DTSTART:20261025T010000
END:STANDARD
BEGIN:DAYLIGHT
TZOFFSETFROM:+0100
TZOFFSETTO:+0200
TZNAME:CEST
DTSTART:20270328T010000
END:DAYLIGHT
BEGIN:STANDARD
TZOFFSETFROM:+0200
TZOFFSETTO:+0100
TZNAME:CET
DTSTART:20271031T010000
END:STANDARD
END:VTIMEZONE
BEGIN:VEVENT
DTSTART;TZID=Europe/Warsaw:20260410T183000
DTEND;TZID=Europe/Warsaw:20260411T003000
DTSTAMP:20260423T050812
CREATED:20260105T112123Z
LAST-MODIFIED:20260116T094335Z
UID:7738-1775845800-1775867400@emeraldspa.pl
SUMMARY:Japanese Sauna night\, and Tibetan Gongs and bowls concert
DESCRIPTION:INCLUDES ALL FOOD AND DRINKS\nWe have prepared for you a beautiful evening with wonderful guests\, a time of renewal\, listening to the needs of body and soul. 🍁🍂🎇🎶🍲🥗🍷Give yourself a moment of respite from everyday matters and responsibilities this Friday evening.\nSAUNA NIGHT PROGRAMME:\n-5 fantastic sauna ceremonies will be conducted by a wonderful Saunamaster1) In the splendour of blossoming Japan\n2) Secret of the Geisha – beauty and beauty\n3) Two elements\n4) The sound of modern Japan\n5) Silent meditation \n– free parking onsite and nearby\n– oriental dishes and drinks\n– hydro-massage in the jacuzzi on the terrace\n– cosy fireplace\n– magical atmosphere and atmospheric interiors\nTICKETS: 290 PLN/person (sauna ceremony\, salads\, hot dish and dessert\, sake/wine\, concert included)\nWe have 18 hot tickets available\, so first come\, first served:)\nYou are welcome to book by calling 666 937 687\nWe have plenty of free parking spaces\nDon’t forget to bring 2-3 large sauna towels:)\n-At the end of the evening there will be a 1h CONCERT OF TYBETIAN MIS AND GONGS\, Bathing in sounds calms the mind and restores harmony in our body. It is a great remedy for insomnia\, depression and anxiety.You are cordially invited !😘🥰
URL:https://emeraldspa.pl/event/japanese-sauna-night-and-tibetan-gongs-and-bowls-concert-2/
LOCATION:Emerald Spa\, Chałubińskiego 64\, Kraków\, Malopolskie\, 30-698\, Poland
CATEGORIES:Sauna party
ATTACH;FMTTYPE=image/jpeg:https://emeraldspa.pl/wp-content/uploads/2026/01/Red-White-Minimalist-About-Japan-Presentation-1.jpg
ORGANIZER;CN="Emerald Spa":MAILTO:info@emeraldspa.pl
END:VEVENT
BEGIN:VEVENT
DTSTART;TZID=Europe/Warsaw:20260522T183000
DTEND;TZID=Europe/Warsaw:20260523T000000
DTSTAMP:20260423T050812
CREATED:20260314T195257Z
LAST-MODIFIED:20260416T090622Z
UID:7904-1779474600-1779494400@emeraldspa.pl
SUMMARY:Jamaican Sauna night
DESCRIPTION:On May 22nd\, we’re taking you to Jamaica! We invite you to enjoy food\, drinks\, and music from this country…\n6 magical Aufguss ceremonies\, including a session with twigs\, will be prepared and led by the fantastic duo @Saunamistrzyni Jemiołka and @Saunamistrz MiroSlavo. Between sessions\, delicious dishes and snacks\, fruit\, and drinks will be available on-site\, included in the admission price. \n\n– Heated garden pool\n– Hydromassage in the garden jacuzzi\n– Barefoot “Earthing” walk on the grass\n– Cozy fireplace\n– Outdoor and indoor showers\n– Magical atmosphere and atmospheric interiors\n– Dance party to hot\, famous club hits\n– Interesting guests from Poland and around the world\n\nTICKET: PLN 270/person\nWe have 18 hot tickets\, so first come\, first served 🙂\nWe have plenty of free parking.\nPlease bring 2 towels for the sauna. We have rooms available for overnight stays (please book in advance!). \nFall in love with our green oasis of peace – EmeraldSpa.pl💚🌲🌲
URL:https://emeraldspa.pl/event/jamaican-sauna-night/
LOCATION:Emerald Spa\, Chałubińskiego 64\, Kraków\, Malopolskie\, 30-698\, Poland
CATEGORIES:Sauna party
ATTACH;FMTTYPE=image/jpeg:https://emeraldspa.pl/wp-content/uploads/2026/03/Jamaican2-1.jpg
ORGANIZER;CN="Emerald Spa":MAILTO:info@emeraldspa.pl
END:VEVENT
BEGIN:VEVENT
DTSTART;TZID=Europe/Warsaw:20260626T180000
DTEND;TZID=Europe/Warsaw:20260626T180000
DTSTAMP:20260423T050812
CREATED:20260416T174032Z
LAST-MODIFIED:20260416T190834Z
UID:8243-1782496800-1782496800@emeraldspa.pl
SUMMARY:Midsummer Night - Sauna party and concert of Tibetan Gongs and bowls
DESCRIPTION:Unlimited food and drink! Free parking! International guests. \nTreat yourself to a moment of respite from daily errands and responsibilities this Friday evening. We are preparing for you a beautiful evening with wonderful guests\, a time of renewal\, listening to the needs of body and soul. An encounter with the elements and the senses.\nSAUNA NIGHT PROGRAMME:\n-5 fantastic Aufguss sauna ceremonies full of surprises-including a seance and a massage with birch twigs will be led by the excellent Saunamaster MiroSlavo\n-baking sausages and potatoes on the campfire\n– Refreshments in the form of healthy\, delicious dishes\, including vegan options\, cake\, fruit\, vegetables and juices\n– hydro-massage in the jacuzzi on the terrace\n– pool in the garden\n– sunbathing and sports games and competitions\n– cosy fireplace\n-dance floor\n– cosy atmosphere and atmospheric interiors\n-At the end of the evening there will be a CONCERT OF TIBETAN MIS AND GONGS\, conducted by our special guest. A concert with bowls calms the mind and regenerates the body and soul.\nTICKETS: 290 PLN/person (hot and cold dishes and drinks included)\nWe have 18 hot tickets available\, so first come\, first served:)
URL:https://emeraldspa.pl/event/midsummer-night-sauna-party-and-concert-of-tibetan-gongs-and-bowls/
LOCATION:Emerald Spa\, Chałubińskiego 64\, Kraków\, Malopolskie\, 30-698\, Poland
CATEGORIES:Sauna party
ATTACH;FMTTYPE=image/jpeg:https://emeraldspa.pl/wp-content/uploads/2024/02/NocKupaly-scaled.jpg
ORGANIZER;CN="Emerald Spa":MAILTO:info@emeraldspa.pl
END:VEVENT
END:VCALENDAR