BEGIN:VCALENDAR
VERSION:2.0
PRODID:-//Emerald Spa - ECPv6.15.20//NONSGML v1.0//EN
CALSCALE:GREGORIAN
METHOD:PUBLISH
X-ORIGINAL-URL:https://emeraldspa.pl
X-WR-CALDESC:Events for Emerald Spa
REFRESH-INTERVAL;VALUE=DURATION:PT1H
X-Robots-Tag:noindex
X-PUBLISHED-TTL:PT1H
BEGIN:VTIMEZONE
TZID:Europe/Warsaw
BEGIN:DAYLIGHT
TZOFFSETFROM:+0100
TZOFFSETTO:+0200
TZNAME:CEST
DTSTART:20230326T010000
END:DAYLIGHT
BEGIN:STANDARD
TZOFFSETFROM:+0200
TZOFFSETTO:+0100
TZNAME:CET
DTSTART:20231029T010000
END:STANDARD
BEGIN:DAYLIGHT
TZOFFSETFROM:+0100
TZOFFSETTO:+0200
TZNAME:CEST
DTSTART:20240331T010000
END:DAYLIGHT
BEGIN:STANDARD
TZOFFSETFROM:+0200
TZOFFSETTO:+0100
TZNAME:CET
DTSTART:20241027T010000
END:STANDARD
BEGIN:DAYLIGHT
TZOFFSETFROM:+0100
TZOFFSETTO:+0200
TZNAME:CEST
DTSTART:20250330T010000
END:DAYLIGHT
BEGIN:STANDARD
TZOFFSETFROM:+0200
TZOFFSETTO:+0100
TZNAME:CET
DTSTART:20251026T010000
END:STANDARD
END:VTIMEZONE
BEGIN:VEVENT
DTSTART;TZID=Europe/Warsaw:20240809T183000
DTEND;TZID=Europe/Warsaw:20240810T003000
DTSTAMP:20260422T115113
CREATED:20240626T113630Z
LAST-MODIFIED:20240714T175224Z
UID:3518-1723228200-1723249800@emeraldspa.pl
SUMMARY:Summer Jazz Sauna night
DESCRIPTION:This night we will prepare for you a sophisticated sauna feast for body and soul. You will hear the world’s and Poland’s most famous jazz tunes and you will also be able to dance on the dance floor to these sensual rhythms.\nThe 6 artistic Aufguss sauna sessions will be conducted for you by the fantastic sauna master MiroSlavo.\nIn between the seances there will be a hot and cold buffet with sophisticated dishes\, fruit\, liquor and drinks.\nIn addition :\n– hydromassages in the Jacuzzi on the terrace\n– a swimming pool in a secluded garden\n-cloud showers\n-a relaxation room and a cosy fireplace at your disposal\n– beautiful\, stylish interiors\, free parking.\nIntimate saunas\, great atmosphere. Limited number of places (only 18 persons).\nBook your tickets online here or call 666 937 687\nAdmission: PLN 240 per person (buffet\, drinks included)\nOvernight stay possible (with breakfast).\nWe would like to remind you to bring 2 – 3 large towels for saunas.\nYou are warmly welcome!
URL:https://emeraldspa.pl/event/summer-sauna-party/
LOCATION:Malopolskie
CATEGORIES:Sauna party
ATTACH;FMTTYPE=image/jpeg:https://emeraldspa.pl/wp-content/uploads/2024/06/jazz.jpg
END:VEVENT
END:VCALENDAR