BEGIN:VCALENDAR
VERSION:2.0
PRODID:-//Emerald Spa - ECPv6.15.20//NONSGML v1.0//EN
CALSCALE:GREGORIAN
METHOD:PUBLISH
X-ORIGINAL-URL:https://emeraldspa.pl
X-WR-CALDESC:Events for Emerald Spa
REFRESH-INTERVAL;VALUE=DURATION:PT1H
X-Robots-Tag:noindex
X-PUBLISHED-TTL:PT1H
BEGIN:VTIMEZONE
TZID:Europe/Helsinki
BEGIN:DAYLIGHT
TZOFFSETFROM:+0200
TZOFFSETTO:+0300
TZNAME:EEST
DTSTART:20230326T010000
END:DAYLIGHT
BEGIN:STANDARD
TZOFFSETFROM:+0300
TZOFFSETTO:+0200
TZNAME:EET
DTSTART:20231029T010000
END:STANDARD
BEGIN:DAYLIGHT
TZOFFSETFROM:+0200
TZOFFSETTO:+0300
TZNAME:EEST
DTSTART:20240331T010000
END:DAYLIGHT
BEGIN:STANDARD
TZOFFSETFROM:+0300
TZOFFSETTO:+0200
TZNAME:EET
DTSTART:20241027T010000
END:STANDARD
BEGIN:DAYLIGHT
TZOFFSETFROM:+0200
TZOFFSETTO:+0300
TZNAME:EEST
DTSTART:20250330T010000
END:DAYLIGHT
BEGIN:STANDARD
TZOFFSETFROM:+0300
TZOFFSETTO:+0200
TZNAME:EET
DTSTART:20251026T010000
END:STANDARD
END:VTIMEZONE
BEGIN:VEVENT
DTSTART;TZID=Europe/Helsinki:20240510T183000
DTEND;TZID=Europe/Helsinki:20240511T003000
DTSTAMP:20260422T175153
CREATED:20240107T210124Z
LAST-MODIFIED:20240229T160907Z
UID:3367-1715365800-1715387400@emeraldspa.pl
SUMMARY:Jamaican Sauna night.
DESCRIPTION:ALL FOOD AND DRINK INCLUDED \nMay Day\, This year is in Jamaica! Come join us for food\, drink and music from the country… You are cordially invited. Interesting thematic and intimate sauna nights\, swimming pool and hydromassage in the jacuzzi overlooking the beautiful garden\, a wide range of massages will help you regain peace and inner balance in our green spa. \nWithout famous saunamaster Milosława! \nBetween Aufguss sessions we will serve refreshments\, which are included in the ticket price.\nTICKET: 240zł/person\nWe have 20 hot tickets\, so first come\, first served:)\nWe have plenty of free parking\nPlease bring 2 towels for the sauna \nYou are welcome to book by calling 666 937 687\nSqueeze tight and see you on this unforgettable night!😘🥰
URL:https://emeraldspa.pl/event/may-day-sauna-night/
LOCATION:Emerald Spa\, Chałubińskiego 64\, Kraków\, Malopolskie\, 30-698\, Poland
CATEGORIES:Sauna party
ATTACH;FMTTYPE=image/jpeg:https://emeraldspa.pl/wp-content/uploads/2024/01/jamaican.jpeg
ORGANIZER;CN="Emerald Spa":MAILTO:info@emeraldspa.pl
END:VEVENT
BEGIN:VEVENT
DTSTART;TZID=Europe/Helsinki:20240524T183000
DTEND;TZID=Europe/Helsinki:20240525T003000
DTSTAMP:20260422T175153
CREATED:20240107T210528Z
LAST-MODIFIED:20240107T210528Z
UID:3369-1716575400-1716597000@emeraldspa.pl
SUMMARY:Postcard from Italy
DESCRIPTION:INCLUDES ALL FOOD AND DRINKS\nJoin us for another sauna night in Krakow – this time “Postcard from Italy”\nOn the programme:\n6 diverse sauna ceremonies Aufguss in the Finnish sauna will be conducted by super sauna master Miro Slavo among others\n18:30 Phantom of the Opera\n19:30 San Remo Poland\n20:30 Italian Revolution (vittles)\n21:30 Swinging Gondola\n22:30 The Godfather\n23:30 —-Surprise\n-Italian food and music included\n– hydromassage in the jacuzzi in the garden\n-heated swimming pool in our beautiful secluded garden\n-Relax zone\n– dance floor\n-a homely\, intimate\, magical atmosphere\, super social time (only 18 seats)\nTicket: 240 PLN per person (including hot and cold dishes and drinks)\nThe number of seats is limited\, please book by calling 666 937 687.\nWe have a large number of parking spaces on site\, and there is the possibility of accommodation with breakfast for visitors from further afield or from abroad.\nPlease remember to bring 2 or 3 large sauna towels with you.
URL:https://emeraldspa.pl/event/postcard-from-italy/
LOCATION:Emerald Spa\, Chałubińskiego 64\, Kraków\, Malopolskie\, 30-698\, Poland
CATEGORIES:Sauna party
ATTACH;FMTTYPE=image/jpeg:https://emeraldspa.pl/wp-content/uploads/2023/09/italy.jpg
ORGANIZER;CN="Emerald Spa":MAILTO:info@emeraldspa.pl
END:VEVENT
END:VCALENDAR