BEGIN:VCALENDAR
VERSION:2.0
PRODID:-//Emerald Spa - ECPv6.15.20//NONSGML v1.0//EN
CALSCALE:GREGORIAN
METHOD:PUBLISH
X-ORIGINAL-URL:https://emeraldspa.pl
X-WR-CALDESC:Events for Emerald Spa
REFRESH-INTERVAL;VALUE=DURATION:PT1H
X-Robots-Tag:noindex
X-PUBLISHED-TTL:PT1H
BEGIN:VTIMEZONE
TZID:Europe/Helsinki
BEGIN:DAYLIGHT
TZOFFSETFROM:+0200
TZOFFSETTO:+0300
TZNAME:EEST
DTSTART:20230326T010000
END:DAYLIGHT
BEGIN:STANDARD
TZOFFSETFROM:+0300
TZOFFSETTO:+0200
TZNAME:EET
DTSTART:20231029T010000
END:STANDARD
BEGIN:DAYLIGHT
TZOFFSETFROM:+0200
TZOFFSETTO:+0300
TZNAME:EEST
DTSTART:20240331T010000
END:DAYLIGHT
BEGIN:STANDARD
TZOFFSETFROM:+0300
TZOFFSETTO:+0200
TZNAME:EET
DTSTART:20241027T010000
END:STANDARD
BEGIN:DAYLIGHT
TZOFFSETFROM:+0200
TZOFFSETTO:+0300
TZNAME:EEST
DTSTART:20250330T010000
END:DAYLIGHT
BEGIN:STANDARD
TZOFFSETFROM:+0300
TZOFFSETTO:+0200
TZNAME:EET
DTSTART:20251026T010000
END:STANDARD
END:VTIMEZONE
BEGIN:VEVENT
DTSTART;TZID=Europe/Helsinki:20240209T180000
DTEND;TZID=Europe/Helsinki:20240210T003000
DTSTAMP:20260422T232912
CREATED:20231005T175206Z
LAST-MODIFIED:20240119T205054Z
UID:2430-1707501600-1707525000@emeraldspa.pl
SUMMARY:Valentine's Sauna Night
DESCRIPTION:Do you want it to be romantic\, atmospheric\, hot and unique?\nFor all those in love with… the sauna\, we have prepared a unique program for this special Friday evening: \n– Champagne for everyone!\n– 6 sauna ceremonies will be led by Sauna Master Miro Slavo:\n– Russian Banya session with birch twigs\n– flower session (rose and honey body mask)\n– smoke and aroma session with menthol\n– Through the Stomach to the Heart session\n– a sensual and romantic session with ylang ylang oil\, known for its aphrodisiac properties\nand Cleopatra’s beauty ritual: the mask has a face made of goat’s milk\n– unlimited wine\, vodka\, beer\, juice and water included in the price\n– delicious snacks\n– hot dish\nYou can also have fun on the dance floor on this carnival night\nENTRY PRICE: PLN 270/1 person (the price includes unlimited drinks (wine\, beer\, vodka\, juice\, water) as well as food\, fruit and snacks)\nWe accept reservations by calling: 666 937 687. Limited places\nWe have a free large parking lot\, and other space nearby free\, – and also overnight rooms available for stay (Book early!) \nFall in love with EmeraldSpa.pl\n#sauna night #valentine’s day #ruskabania #sauna session #sauna evening #sauna sessions #correctsauna #healthysauna #textless #aromatherapy #sauna lovers #natural oils #sauna #weekendwkraków #saunakraków
URL:https://emeraldspa.pl/event/valentines-sauna-night/
LOCATION:Malopolskie
CATEGORIES:Sauna party
ATTACH;FMTTYPE=image/jpeg:https://emeraldspa.pl/wp-content/uploads/2023/09/324086532_679578280531400_749296175579844645_n.jpg
END:VEVENT
BEGIN:VEVENT
DTSTART;TZID=Europe/Helsinki:20240216T180000
DTEND;TZID=Europe/Helsinki:20240217T003000
DTSTAMP:20260422T232912
CREATED:20231005T175511Z
LAST-MODIFIED:20240119T205139Z
UID:2435-1708106400-1708129800@emeraldspa.pl
SUMMARY:Valentine’s Sauna Night
DESCRIPTION:Do you want it to be romantic\, atmospheric\, hot and unique?\nFor all those in love with… the sauna\, we have prepared a unique program for this special Friday evening: \n– Champagne for everyone!\n– 6 sauna ceremonies will be led by Sauna Master Miro Slavo:\n– Russian Banya session with birch twigs\n– flower session (rose and honey body mask)\n– smoke and aroma session with menthol\n– Through the Stomach to the Heart session\n– a sensual and romantic session with ylang ylang oil\, known for its aphrodisiac properties\nand Cleopatra’s beauty ritual: the mask has a face made of goat’s milk\n– unlimited wine\, vodka\, beer\, juice and water included in the price\n– delicious snacks\n– hot dish\nYou can also have fun on the dance floor on this carnival night\nENTRY PRICE: PLN 270/1 person (the price includes unlimited drinks (wine\, beer\, vodka\, juice\, water) as well as food\, fruit and snacks)\nWe accept reservations by calling: 666 937 687. Limited places\nWe have a free large parking lot\, and other space nearby free\, – and also overnight rooms available for stay (Book early!) \nFall in love with EmeraldSpa.pl\n#sauna night #valentine’s day #ruskabania #sauna session #sauna evening #sauna sessions #correctsauna #healthysauna #textless #aromatherapy #sauna lovers #natural oils #sauna #weekendwkraków #saunakraków
URL:https://emeraldspa.pl/event/valentines-sauna-night-2/
LOCATION:Malopolskie
CATEGORIES:Sauna party
ATTACH;FMTTYPE=image/jpeg:https://emeraldspa.pl/wp-content/uploads/2023/09/324086532_679578280531400_749296175579844645_n.jpg
END:VEVENT
END:VCALENDAR